BEGIN:VCALENDAR
VERSION:2.0
PRODID:-//Taylor Family Department of Neurosurgery//NONSGML Events//EN
CALSCALE:GREGORIAN
X-ORIGINAL-URL:https://neurosurgery.wustl.edu/events/
X-WR-CALDESC:Taylor Family Department of Neurosurgery - Events
BEGIN:VEVENT
UID:20200609T2152Z-1591739551.6484-EO-5690-1@172.23.128.31
STATUS:CONFIRMED
DTSTAMP:20260423T215808Z
CREATED:20200609T194319Z
LAST-MODIFIED:20200609T194319Z
DTSTART;TZID=America/Chicago:20200611T170000
DTEND;TZID=America/Chicago:20200611T180000
RRULE:FREQ=WEEKLY;INTERVAL=1;BYDAY=TH;UNTIL=20201231T230000Z
SUMMARY: Teaching Conference
X-ALT-DESC;FMTTYPE=text/html: 
CATEGORIES:Conferences
ORGANIZER;CN="Brian":MAILTO:bmarston@wustl.edu
URL;VALUE=URI:https://neurosurgery.wustl.edu/events/event/calendar/teaching
 -conference/
END:VEVENT
BEGIN:VTIMEZONE
TZID:America/Chicago
BEGIN:DAYLIGHT
TZOFFSETFROM:-0600
TZOFFSETTO:-0500
DTSTART:20200308T080000
TZNAME:CDT
END:DAYLIGHT
BEGIN:STANDARD
TZOFFSETFROM:-0500
TZOFFSETTO:-0600
DTSTART:20201101T070000
TZNAME:CST
END:STANDARD
END:VTIMEZONE
END:VCALENDAR
