BEGIN:VCALENDAR
VERSION:2.0
PRODID:-//Taylor Family Department of Neurosurgery//NONSGML Events//EN
CALSCALE:GREGORIAN
X-ORIGINAL-URL:https://neurosurgery.wustl.edu/events/
X-WR-CALDESC:Taylor Family Department of Neurosurgery - Events
BEGIN:VEVENT
UID:20201208T2055Z-1607460938.5103-EO-8312-1@172.23.128.19
STATUS:CONFIRMED
DTSTAMP:20260423T233057Z
CREATED:20201202T023444Z
LAST-MODIFIED:20201202T025621Z
DTSTART;TZID=America/Chicago:20210217T070000
DTEND;TZID=America/Chicago:20210217T080000
SUMMARY: Grand Rounds: Antiracism Culture – Developing a shared language
X-ALT-DESC;FMTTYPE=text/html: 
CATEGORIES:Grand Rounds
ORGANIZER;CN="Brian":MAILTO:bmarston@wustl.edu
URL;VALUE=URI:https://neurosurgery.wustl.edu/events/event/calendar/antiraci
 sm-culture-developing-a-shared-language/
END:VEVENT
BEGIN:VTIMEZONE
TZID:America/Chicago
BEGIN:STANDARD
TZOFFSETFROM:-0500
TZOFFSETTO:-0600
DTSTART:20201101T070000
TZNAME:CST
END:STANDARD
END:VTIMEZONE
END:VCALENDAR
